BEGIN:VCALENDAR
VERSION:2.0
PRODID:-//The Northdale Concert Band - ECPv6.15.20//NONSGML v1.0//EN
CALSCALE:GREGORIAN
METHOD:PUBLISH
X-WR-CALNAME:The Northdale Concert Band
X-ORIGINAL-URL:https://northdaleconcertband.ca
X-WR-CALDESC:Events for The Northdale Concert Band
REFRESH-INTERVAL;VALUE=DURATION:PT1H
X-Robots-Tag:noindex
X-PUBLISHED-TTL:PT1H
BEGIN:VTIMEZONE
TZID:America/Toronto
BEGIN:DAYLIGHT
TZOFFSETFROM:-0500
TZOFFSETTO:-0400
TZNAME:EDT
DTSTART:20230312T070000
END:DAYLIGHT
BEGIN:STANDARD
TZOFFSETFROM:-0400
TZOFFSETTO:-0500
TZNAME:EST
DTSTART:20231105T060000
END:STANDARD
BEGIN:DAYLIGHT
TZOFFSETFROM:-0500
TZOFFSETTO:-0400
TZNAME:EDT
DTSTART:20240310T070000
END:DAYLIGHT
BEGIN:STANDARD
TZOFFSETFROM:-0400
TZOFFSETTO:-0500
TZNAME:EST
DTSTART:20241103T060000
END:STANDARD
BEGIN:DAYLIGHT
TZOFFSETFROM:-0500
TZOFFSETTO:-0400
TZNAME:EDT
DTSTART:20250309T070000
END:DAYLIGHT
BEGIN:STANDARD
TZOFFSETFROM:-0400
TZOFFSETTO:-0500
TZNAME:EST
DTSTART:20251102T060000
END:STANDARD
BEGIN:DAYLIGHT
TZOFFSETFROM:-0500
TZOFFSETTO:-0400
TZNAME:EDT
DTSTART:20260308T070000
END:DAYLIGHT
BEGIN:STANDARD
TZOFFSETFROM:-0400
TZOFFSETTO:-0500
TZNAME:EST
DTSTART:20261101T060000
END:STANDARD
END:VTIMEZONE
BEGIN:VEVENT
DTSTART;TZID=America/Toronto:20250622T130000
DTEND;TZID=America/Toronto:20250622T150000
DTSTAMP:20260425T091426
CREATED:20250423T171334Z
LAST-MODIFIED:20250622T145711Z
UID:818-1750597200-1750604400@northdaleconcertband.ca
SUMMARY:CANCELLED - Concert in the Park @ Kew Gardens
DESCRIPTION:Join us for a FREE concert at the Kew Gardens Bandshell.
URL:https://northdaleconcertband.ca/concert/concert-in-the-park-kew-gardens/
LOCATION:Kew Gardens Bandshell\, 2075 Queen St E\, Toronto\, Ontario\, Canada
END:VEVENT
BEGIN:VEVENT
DTSTART;TZID=America/Toronto:20250608T140000
DTEND;TZID=America/Toronto:20250608T140000
DTSTAMP:20260425T091426
CREATED:20250219T032443Z
LAST-MODIFIED:20250522T153914Z
UID:789-1749391200-1749391200@northdaleconcertband.ca
SUMMARY:"Rhapsody in Blue"
DESCRIPTION:The Northdale Concert Band presents an afternoon of blues\, jazz\, and timeless melodiesJoin us for an unforgettable musical experience featuring special guests: acclaimed vocalist Heather Bambrick and celebrated pianist Stuart Harrison. \nFeel the energy of Rhapsody in Blue—the groundbreaking piece that successfully fused classical music with jazz. The program also includes beloved standards like Gershwin’s They Can’t Take That Away from Me and But Not for Me\, Hoagy Carmichael’s Star Dust\, and Oscar Peterson’s moving Hymn to Freedom. \nEnjoy a wide-ranging repertoire\, including Bernstein’s witty Slava!\, the bebop classic A Night in Tunisia by Dizzy Gillespie\, Benny Goodman’s swing favourite Sing\, Sing\, Sing\, and more! \nTickets \nAdults: $20\nSeniors & Students: $15\nKids under 13 are free \nFor groups of 10 or more\, please email us at info@northdaleconcertband.ca for a group discount code. \nPurchase tickets online using this link or QR code:  https://www.zeffy.com/ticketing/rhapsody-in-blue-concert
URL:https://northdaleconcertband.ca/concert/rhapsody-in-blue/
LOCATION:Isabel Bader Theatre\, 93 Charles Street West\, Toronto\, Ontario\, M5S 2C7\, Canada
END:VEVENT
BEGIN:VEVENT
DTSTART;TZID=America/Toronto:20241214T140000
DTEND;TZID=America/Toronto:20241214T140000
DTSTAMP:20260425T091426
CREATED:20240901T192110Z
LAST-MODIFIED:20241114T195959Z
UID:452-1734184800-1734184800@northdaleconcertband.ca
SUMMARY:"Christmas in Harmony" Concert (with Northern Trails Vocal Connection)
DESCRIPTION:Tickets \nAdults: $20\nSeniors & Students: $10\nChildren under 13 are free \nPurchase tickets online using this link or QR code: https://www.zeffy.com/ticketing/christmas-in-harmony-concert-december-14–2024 \n \n 
URL:https://northdaleconcertband.ca/concert/holiday-concert-with-northern-trails-vocal-connection-2/
LOCATION:Salvation Army Citadel\, 2021 Lawrence Ave. East\, Scarborough\, Ontario\, M1R2Z2\, Canada
END:VEVENT
BEGIN:VEVENT
DTSTART;TZID=America/Toronto:20241201T150000
DTEND;TZID=America/Toronto:20241201T150000
DTSTAMP:20260425T091426
CREATED:20240901T191956Z
LAST-MODIFIED:20241114T202054Z
UID:449-1733065200-1733065200@northdaleconcertband.ca
SUMMARY:"Christmas in Harmony" Concert (with Northern Trails Vocal Connection)
DESCRIPTION:To purchase tickets for the December 1st concert in Port Perry\, please use the following link: https://www.northerntrailsvocalconnection.ca/upcomming-concerts
URL:https://northdaleconcertband.ca/concert/holiday-concert-with-northern-trails-vocal-connection/
LOCATION:Port Perry United Church\, 294 Queen Street\, Port Perry\, Ontario\, L9L 1B9
END:VEVENT
BEGIN:VEVENT
DTSTART;TZID=America/Toronto:20241113T193000
DTEND;TZID=America/Toronto:20241113T193000
DTSTAMP:20260425T091426
CREATED:20240901T191709Z
LAST-MODIFIED:20241103T203529Z
UID:446-1731526200-1731526200@northdaleconcertband.ca
SUMMARY:Song of Hope: Celebrating the Music of Peter Meechan
DESCRIPTION:A benefit concert in support of Princess Margaret Cancer Foundation\nThis event will feature performances by the Northdale Concert Band\, three exceptional professional trumpet soloists (Andrew McCandless\, Declan Scott and Charles Watson)\, and four talented high school bands\, all uniting in support of this important cause. All net proceeds from the concert will benefit the Princess Margaret Cancer Foundation. \nCheck out the concert website: https://supportthepmcf.ca/ui/Songofhope \n  \nTicket Information\nEach band has been allotted tickets for their respective families and friends. Please contact the band directly through emails below to purchase tickets. \nThe general public can purchase tickets online using the following link: https://www.zeffy.com/ticketing/song-of-hope-benefit-concert-november-13–2024 \nNorthdale Concert Band: info@northdaleconcertband.ca\nPierre Elliott Trudeau High School: greg.colley@yrdsb.ca\nUnionville High School: jeff.wrigglesworth@yrdsb.ca\nRichmond Hill High School: cameron.rawlins@yrdsb.ca\nMarkham District High School: stuart.siu@yrdsb.ca
URL:https://northdaleconcertband.ca/concert/song-of-hope-celebrating-the-music-of-peter-meechan/
LOCATION:P.C. Ho Theatre – Chinese Cultural Centre of Greater Toronto\, 5183 Sheppard Ave. East\, Toronto\, Ontario\, M1B 5Z5\, Canada
END:VEVENT
END:VCALENDAR