BEGIN:VCALENDAR
VERSION:2.0
PRODID:-//The Northdale Concert Band - ECPv6.15.20//NONSGML v1.0//EN
CALSCALE:GREGORIAN
METHOD:PUBLISH
X-WR-CALNAME:The Northdale Concert Band
X-ORIGINAL-URL:https://northdaleconcertband.ca
X-WR-CALDESC:Events for The Northdale Concert Band
REFRESH-INTERVAL;VALUE=DURATION:PT1H
X-Robots-Tag:noindex
X-PUBLISHED-TTL:PT1H
BEGIN:VTIMEZONE
TZID:America/Toronto
BEGIN:DAYLIGHT
TZOFFSETFROM:-0500
TZOFFSETTO:-0400
TZNAME:EDT
DTSTART:20240310T070000
END:DAYLIGHT
BEGIN:STANDARD
TZOFFSETFROM:-0400
TZOFFSETTO:-0500
TZNAME:EST
DTSTART:20241103T060000
END:STANDARD
BEGIN:DAYLIGHT
TZOFFSETFROM:-0500
TZOFFSETTO:-0400
TZNAME:EDT
DTSTART:20250309T070000
END:DAYLIGHT
BEGIN:STANDARD
TZOFFSETFROM:-0400
TZOFFSETTO:-0500
TZNAME:EST
DTSTART:20251102T060000
END:STANDARD
BEGIN:DAYLIGHT
TZOFFSETFROM:-0500
TZOFFSETTO:-0400
TZNAME:EDT
DTSTART:20260308T070000
END:DAYLIGHT
BEGIN:STANDARD
TZOFFSETFROM:-0400
TZOFFSETTO:-0500
TZNAME:EST
DTSTART:20261101T060000
END:STANDARD
BEGIN:DAYLIGHT
TZOFFSETFROM:-0500
TZOFFSETTO:-0400
TZNAME:EDT
DTSTART:20270314T070000
END:DAYLIGHT
BEGIN:STANDARD
TZOFFSETFROM:-0400
TZOFFSETTO:-0500
TZNAME:EST
DTSTART:20271107T060000
END:STANDARD
END:VTIMEZONE
BEGIN:VEVENT
DTSTART;TZID=America/Toronto:20250608T140000
DTEND;TZID=America/Toronto:20250608T140000
DTSTAMP:20260425T081616
CREATED:20250219T032443Z
LAST-MODIFIED:20250522T153914Z
UID:789-1749391200-1749391200@northdaleconcertband.ca
SUMMARY:"Rhapsody in Blue"
DESCRIPTION:The Northdale Concert Band presents an afternoon of blues\, jazz\, and timeless melodiesJoin us for an unforgettable musical experience featuring special guests: acclaimed vocalist Heather Bambrick and celebrated pianist Stuart Harrison. \nFeel the energy of Rhapsody in Blue—the groundbreaking piece that successfully fused classical music with jazz. The program also includes beloved standards like Gershwin’s They Can’t Take That Away from Me and But Not for Me\, Hoagy Carmichael’s Star Dust\, and Oscar Peterson’s moving Hymn to Freedom. \nEnjoy a wide-ranging repertoire\, including Bernstein’s witty Slava!\, the bebop classic A Night in Tunisia by Dizzy Gillespie\, Benny Goodman’s swing favourite Sing\, Sing\, Sing\, and more! \nTickets \nAdults: $20\nSeniors & Students: $15\nKids under 13 are free \nFor groups of 10 or more\, please email us at info@northdaleconcertband.ca for a group discount code. \nPurchase tickets online using this link or QR code:  https://www.zeffy.com/ticketing/rhapsody-in-blue-concert
URL:https://northdaleconcertband.ca/concert/rhapsody-in-blue/
LOCATION:Isabel Bader Theatre\, 93 Charles Street West\, Toronto\, Ontario\, M5S 2C7\, Canada
END:VEVENT
BEGIN:VEVENT
DTSTART;TZID=America/Toronto:20250622T130000
DTEND;TZID=America/Toronto:20250622T150000
DTSTAMP:20260425T081616
CREATED:20250423T171334Z
LAST-MODIFIED:20250622T145711Z
UID:818-1750597200-1750604400@northdaleconcertband.ca
SUMMARY:CANCELLED - Concert in the Park @ Kew Gardens
DESCRIPTION:Join us for a FREE concert at the Kew Gardens Bandshell.
URL:https://northdaleconcertband.ca/concert/concert-in-the-park-kew-gardens/
LOCATION:Kew Gardens Bandshell\, 2075 Queen St E\, Toronto\, Ontario\, Canada
END:VEVENT
BEGIN:VEVENT
DTSTART;TZID=America/Toronto:20251029T193000
DTEND;TZID=America/Toronto:20251029T193000
DTSTAMP:20260425T081616
CREATED:20250826T220245Z
LAST-MODIFIED:20251021T165410Z
UID:838-1761766200-1761766200@northdaleconcertband.ca
SUMMARY:"Band Together: The Composer Series"
DESCRIPTION:Band Together: The Composer Series concert is a special evening of performances by the Northdale Concert Band\, Pierre Elliott Trudeau High School\, and G.W. Williams Secondary School. The program showcases the music of acclaimed composer Robert Buckley and features guest saxophone soloist John Johnson\, who will be performing in several pieces throughout the evening. \nNet proceeds from the concert will benefit The Princess Margaret Cancer Foundation. \nTickets \nAdults: $20\nStudents: $10\nKids under 13 are free \nPurchase tickets online using this link or QR code:  https://www.zeffy.com/en-CA/ticketing/band-together-concert
URL:https://northdaleconcertband.ca/concert/band-together-the-composer-series/
LOCATION:The Bridge\, 5440 16th Avenue\, Markham\, Ontario\, L3P 3J3\, Canada
END:VEVENT
BEGIN:VEVENT
DTSTART;TZID=America/Toronto:20251213T140000
DTEND;TZID=America/Toronto:20251213T140000
DTSTAMP:20260425T081616
CREATED:20250622T151425Z
LAST-MODIFIED:20251110T153148Z
UID:834-1765634400-1765634400@northdaleconcertband.ca
SUMMARY:Northdale & Bach Children's Chorus in Concert
DESCRIPTION:Yuletide Tales & Timeless Tunes \nJoin the Northdale Concert Band and the Bach Children’s Chorus for a festive afternoon of seasonal music. This special holiday concert features the two ensembles\, each performing their own favourites and coming together for several memorable collaborations. The program includes classic Christmas stories that capture the warmth and wonder of the season brought to life in joyful music and jolly narration! A perfect way to celebrate the holidays with family and friends! \nTickets \nAdults: $30\nSeniors & Students: $20\nKids under 13 are free \nPurchase tickets online using this link or QR code:  https://www.zeffy.com/en-CA/ticketing/christmas-concert-11 \n \n 
URL:https://northdaleconcertband.ca/concert/concert-with-bach-childrens-chorus/
LOCATION:Salvation Army Citadel\, 2021 Lawrence Ave. East\, Scarborough\, Ontario\, M1R2Z2\, Canada
END:VEVENT
BEGIN:VEVENT
DTSTART;TZID=America/Toronto:20260328T140000
DTEND;TZID=America/Toronto:20260328T140000
DTSTAMP:20260425T081616
CREATED:20250826T224508Z
LAST-MODIFIED:20260327T164007Z
UID:849-1774706400-1774706400@northdaleconcertband.ca
SUMMARY:"Extravabandza: Winds and Brass Unite" - In concert with Weston Silver Band
DESCRIPTION:The Northdale Concert Band and Weston Silver Band unite for an exciting afternoon of wind and brass music featuring works by John Williams\, Eric Whitacre\, Michael Giacchino\, Robert Sheldon\, Scott Irvine\, and more. \nTickets \nAdults: $25\nSeniors: $20\nStudents: $15\nKids under 13 are free \nPurchase tickets online using this link or QR code: https://www.zeffy.com/en-CA/ticketing/extravabandza-winds-and-brass-unite-concert
URL:https://northdaleconcertband.ca/concert/concert-with-weston-silver-band/
LOCATION:Eglinton St. George’s United Church\, 35 Lytton Blvd\, Toronto\, Ontario\, M4R 1L2\, Canada
END:VEVENT
BEGIN:VEVENT
DTSTART;TZID=America/Toronto:20260606T140000
DTEND;TZID=America/Toronto:20260606T140000
DTSTAMP:20260425T081616
CREATED:20251115T230718Z
LAST-MODIFIED:20260420T031706Z
UID:880-1780754400-1780754400@northdaleconcertband.ca
SUMMARY:"An Enchanting Journey" concert with guest flautist Stephen Tam
DESCRIPTION:Northdale Concert Band presents An Enchanting Journey\, an afternoon concert with special guest flautist Stephen Tam\, in a vibrant musical program filled with colour\, lyricism\, and motion. \n\nStephen Tam will be featured in several stunning works with Northdale\, including Cécile Chaminade’s Flute Concertino\, Charles Griffes’ graceful and expressive Poem for flute\, and the virtuosic showpiece Flight of the Bumblebee. Northdale will also perform exciting selections by Hazo\, Márquez\, Reed\, Piazzolla\, Bernstein\, and more\, in what’s sure to be an enchanting musical experience. \n  \nTickets: \nPurchase tickets online using this link or QR code:  https://www.ticketmaster.ca/event/1000647AA95BBB1F
URL:https://northdaleconcertband.ca/concert/concert-with-guest-flutist-stephen-tam/
LOCATION:Greenwin Theatre – Meridian Arts Center\, 5040 Yonge St.\, North York\, Ontario\, M2N 6R8\, Canada
END:VEVENT
END:VCALENDAR