BEGIN:VCALENDAR
VERSION:2.0
PRODID:-//The Northdale Concert Band - ECPv6.15.20//NONSGML v1.0//EN
CALSCALE:GREGORIAN
METHOD:PUBLISH
X-ORIGINAL-URL:https://northdaleconcertband.ca
X-WR-CALDESC:Events for The Northdale Concert Band
REFRESH-INTERVAL;VALUE=DURATION:PT1H
X-Robots-Tag:noindex
X-PUBLISHED-TTL:PT1H
BEGIN:VTIMEZONE
TZID:America/Toronto
BEGIN:DAYLIGHT
TZOFFSETFROM:-0500
TZOFFSETTO:-0400
TZNAME:EDT
DTSTART:20250309T070000
END:DAYLIGHT
BEGIN:STANDARD
TZOFFSETFROM:-0400
TZOFFSETTO:-0500
TZNAME:EST
DTSTART:20251102T060000
END:STANDARD
BEGIN:DAYLIGHT
TZOFFSETFROM:-0500
TZOFFSETTO:-0400
TZNAME:EDT
DTSTART:20260308T070000
END:DAYLIGHT
BEGIN:STANDARD
TZOFFSETFROM:-0400
TZOFFSETTO:-0500
TZNAME:EST
DTSTART:20261101T060000
END:STANDARD
BEGIN:DAYLIGHT
TZOFFSETFROM:-0500
TZOFFSETTO:-0400
TZNAME:EDT
DTSTART:20270314T070000
END:DAYLIGHT
BEGIN:STANDARD
TZOFFSETFROM:-0400
TZOFFSETTO:-0500
TZNAME:EST
DTSTART:20271107T060000
END:STANDARD
END:VTIMEZONE
BEGIN:VEVENT
DTSTART;TZID=America/Toronto:20260328T140000
DTEND;TZID=America/Toronto:20260328T140000
DTSTAMP:20260424T120610
CREATED:20250826T224508Z
LAST-MODIFIED:20260327T164007Z
UID:849-1774706400-1774706400@northdaleconcertband.ca
SUMMARY:"Extravabandza: Winds and Brass Unite" - In concert with Weston Silver Band
DESCRIPTION:The Northdale Concert Band and Weston Silver Band unite for an exciting afternoon of wind and brass music featuring works by John Williams\, Eric Whitacre\, Michael Giacchino\, Robert Sheldon\, Scott Irvine\, and more. \nTickets \nAdults: $25\nSeniors: $20\nStudents: $15\nKids under 13 are free \nPurchase tickets online using this link or QR code: https://www.zeffy.com/en-CA/ticketing/extravabandza-winds-and-brass-unite-concert
URL:https://northdaleconcertband.ca/concert/concert-with-weston-silver-band/
LOCATION:Eglinton St. George’s United Church\, 35 Lytton Blvd\, Toronto\, Ontario\, M4R 1L2\, Canada
END:VEVENT
END:VCALENDAR